BEGIN:VCALENDAR
VERSION:2.0
PRODID:-//Encore Education Centre in Cornwall - ECPv6.5.1.6//NONSGML v1.0//EN
CALSCALE:GREGORIAN
METHOD:PUBLISH
X-ORIGINAL-URL:https://www.encorecornwall.com
X-WR-CALDESC:Events for Encore Education Centre in Cornwall
REFRESH-INTERVAL;VALUE=DURATION:PT1H
X-Robots-Tag:noindex
X-PUBLISHED-TTL:PT1H
BEGIN:VTIMEZONE
TZID:UTC
BEGIN:STANDARD
TZOFFSETFROM:+0000
TZOFFSETTO:+0000
TZNAME:UTC
DTSTART:20240101T000000
END:STANDARD
END:VTIMEZONE
BEGIN:VEVENT
DTSTART;TZID=UTC:20240305T093000
DTEND;TZID=UTC:20240305T113000
DTSTAMP:20260423T202659
CREATED:20240214T173954Z
LAST-MODIFIED:20240214T200016Z
UID:2214-1709631000-1709638200@www.encorecornwall.com
SUMMARY:01.1-WWII & Aftermath
DESCRIPTION:
URL:https://www.encorecornwall.com/event/01-1-world-war-ii-part-2/
END:VEVENT
BEGIN:VEVENT
DTSTART;TZID=UTC:20240305T140000
DTEND;TZID=UTC:20240305T160000
DTSTAMP:20260423T202659
CREATED:20240214T174452Z
LAST-MODIFIED:20240214T174452Z
UID:2218-1709647200-1709654400@www.encorecornwall.com
SUMMARY:02.1-Hot Topics
DESCRIPTION:
URL:https://www.encorecornwall.com/event/02-1-hot-topics/
END:VEVENT
END:VCALENDAR