BEGIN:VCALENDAR
VERSION:2.0
PRODID:-//Encore Education Centre in Cornwall - ECPv6.5.1.6//NONSGML v1.0//EN
CALSCALE:GREGORIAN
METHOD:PUBLISH
X-WR-CALNAME:Encore Education Centre in Cornwall
X-ORIGINAL-URL:https://www.encorecornwall.com
X-WR-CALDESC:Events for Encore Education Centre in Cornwall
REFRESH-INTERVAL;VALUE=DURATION:PT1H
X-Robots-Tag:noindex
X-PUBLISHED-TTL:PT1H
BEGIN:VTIMEZONE
TZID:UTC
BEGIN:STANDARD
TZOFFSETFROM:+0000
TZOFFSETTO:+0000
TZNAME:UTC
DTSTART:20240101T000000
END:STANDARD
END:VTIMEZONE
BEGIN:VEVENT
DTSTART;TZID=UTC:20240314T093000
DTEND;TZID=UTC:20240314T113000
DTSTAMP:20260423T202556
CREATED:20240214T182322Z
LAST-MODIFIED:20240214T182322Z
UID:2268-1710408600-1710415800@www.encorecornwall.com
SUMMARY:07.1-Coping with Change
DESCRIPTION:
URL:https://www.encorecornwall.com/event/07-1-coping-with-change/
END:VEVENT
BEGIN:VEVENT
DTSTART;TZID=UTC:20240314T133000
DTEND;TZID=UTC:20240314T153000
DTSTAMP:20260423T202556
CREATED:20240214T182712Z
LAST-MODIFIED:20240214T182712Z
UID:2274-1710423000-1710430200@www.encorecornwall.com
SUMMARY:08-Sacred Loyalist Cemeteries
DESCRIPTION:
URL:https://www.encorecornwall.com/event/08-sacred-loyalist-cemeteries/
END:VEVENT
END:VCALENDAR