BEGIN:VCALENDAR
VERSION:2.0
PRODID:-//Encore Education Centre in Cornwall - ECPv6.5.1.6//NONSGML v1.0//EN
CALSCALE:GREGORIAN
METHOD:PUBLISH
X-WR-CALNAME:Encore Education Centre in Cornwall
X-ORIGINAL-URL:https://www.encorecornwall.com
X-WR-CALDESC:Events for Encore Education Centre in Cornwall
REFRESH-INTERVAL;VALUE=DURATION:PT1H
X-Robots-Tag:noindex
X-PUBLISHED-TTL:PT1H
BEGIN:VTIMEZONE
TZID:UTC
BEGIN:STANDARD
TZOFFSETFROM:+0000
TZOFFSETTO:+0000
TZNAME:UTC
DTSTART:20240101T000000
END:STANDARD
END:VTIMEZONE
BEGIN:VEVENT
DTSTART;TZID=UTC:20240327T093000
DTEND;TZID=UTC:20240327T113000
DTSTAMP:20260423T202707
CREATED:20240214T180440Z
LAST-MODIFIED:20240214T180834Z
UID:2250-1711531800-1711539000@www.encorecornwall.com
SUMMARY:03.4-Write it Now
DESCRIPTION:
URL:https://www.encorecornwall.com/event/03-4-write-it-now-2/
END:VEVENT
BEGIN:VEVENT
DTSTART;TZID=UTC:20240327T133000
DTEND;TZID=UTC:20240327T153000
DTSTAMP:20260423T202707
CREATED:20240214T181952Z
LAST-MODIFIED:20240214T181952Z
UID:2262-1711546200-1711553400@www.encorecornwall.com
SUMMARY:06A.2-Promoting Cognitive Vitality
DESCRIPTION:
URL:https://www.encorecornwall.com/event/06a-2-promoting-cognitive-vitality/
END:VEVENT
END:VCALENDAR