BEGIN:VCALENDAR
VERSION:2.0
PRODID:-//Encore Education Centre in Cornwall - ECPv6.5.1.6//NONSGML v1.0//EN
CALSCALE:GREGORIAN
METHOD:PUBLISH
X-WR-CALNAME:Encore Education Centre in Cornwall
X-ORIGINAL-URL:https://www.encorecornwall.com
X-WR-CALDESC:Events for Encore Education Centre in Cornwall
REFRESH-INTERVAL;VALUE=DURATION:PT1H
X-Robots-Tag:noindex
X-PUBLISHED-TTL:PT1H
BEGIN:VTIMEZONE
TZID:UTC
BEGIN:STANDARD
TZOFFSETFROM:+0000
TZOFFSETTO:+0000
TZNAME:UTC
DTSTART:20240101T000000
END:STANDARD
END:VTIMEZONE
BEGIN:VEVENT
DTSTART;TZID=UTC:20240411T093000
DTEND;TZID=UTC:20240411T113000
DTSTAMP:20260423T185615
CREATED:20240214T184006Z
LAST-MODIFIED:20240214T184006Z
UID:2284-1712827800-1712835000@www.encorecornwall.com
SUMMARY:12-Hitchhiking Adventures
DESCRIPTION:
URL:https://www.encorecornwall.com/event/12-hitchhiking-adventures/
END:VEVENT
BEGIN:VEVENT
DTSTART;TZID=UTC:20240411T133000
DTEND;TZID=UTC:20240411T153000
DTSTAMP:20260423T185615
CREATED:20240214T184102Z
LAST-MODIFIED:20240214T184102Z
UID:2286-1712842200-1712849400@www.encorecornwall.com
SUMMARY:13-World of Birds
DESCRIPTION:
URL:https://www.encorecornwall.com/event/13-world-of-birds/
END:VEVENT
END:VCALENDAR