BEGIN:VCALENDAR
VERSION:2.0
PRODID:-//Encore Education Centre in Cornwall - ECPv6.5.1.6//NONSGML v1.0//EN
CALSCALE:GREGORIAN
METHOD:PUBLISH
X-WR-CALNAME:Encore Education Centre in Cornwall
X-ORIGINAL-URL:https://www.encorecornwall.com
X-WR-CALDESC:Events for Encore Education Centre in Cornwall
REFRESH-INTERVAL;VALUE=DURATION:PT1H
X-Robots-Tag:noindex
X-PUBLISHED-TTL:PT1H
BEGIN:VTIMEZONE
TZID:UTC
BEGIN:STANDARD
TZOFFSETFROM:+0000
TZOFFSETTO:+0000
TZNAME:UTC
DTSTART:20240101T000000
END:STANDARD
END:VTIMEZONE
BEGIN:VEVENT
DTSTART;TZID=UTC:20240506T181500
DTEND;TZID=UTC:20240506T201500
DTSTAMP:20260423T174035
CREATED:20240214T185142Z
LAST-MODIFIED:20240214T185142Z
UID:2302-1715019300-1715026500@www.encorecornwall.com
SUMMARY:21.1-Android for Smartphones
DESCRIPTION:
URL:https://www.encorecornwall.com/event/21-1-android-for-smartphones/
END:VEVENT
END:VCALENDAR