BEGIN:VCALENDAR
VERSION:2.0
PRODID:-//Encore Education Centre in Cornwall - ECPv6.5.1.6//NONSGML v1.0//EN
CALSCALE:GREGORIAN
METHOD:PUBLISH
X-WR-CALNAME:Encore Education Centre in Cornwall
X-ORIGINAL-URL:https://www.encorecornwall.com
X-WR-CALDESC:Events for Encore Education Centre in Cornwall
REFRESH-INTERVAL;VALUE=DURATION:PT1H
X-Robots-Tag:noindex
X-PUBLISHED-TTL:PT1H
BEGIN:VTIMEZONE
TZID:UTC
BEGIN:STANDARD
TZOFFSETFROM:+0000
TZOFFSETTO:+0000
TZNAME:UTC
DTSTART:20240101T000000
END:STANDARD
END:VTIMEZONE
BEGIN:VEVENT
DTSTART;TZID=UTC:20240515T181500
DTEND;TZID=UTC:20240515T201500
DTSTAMP:20260423T174108
CREATED:20240214T190203Z
LAST-MODIFIED:20240214T190203Z
UID:2311-1715796900-1715804100@www.encorecornwall.com
SUMMARY:23.2-Apps for iPad
DESCRIPTION:
URL:https://www.encorecornwall.com/event/23-2-apps-for-ipad/
END:VEVENT
END:VCALENDAR