BEGIN:VCALENDAR
VERSION:2.0
PRODID:-//Encore Education Centre in Cornwall - ECPv6.5.1.6//NONSGML v1.0//EN
CALSCALE:GREGORIAN
METHOD:PUBLISH
X-WR-CALNAME:Encore Education Centre in Cornwall
X-ORIGINAL-URL:https://www.encorecornwall.com
X-WR-CALDESC:Events for Encore Education Centre in Cornwall
REFRESH-INTERVAL;VALUE=DURATION:PT1H
X-Robots-Tag:noindex
X-PUBLISHED-TTL:PT1H
BEGIN:VTIMEZONE
TZID:UTC
BEGIN:STANDARD
TZOFFSETFROM:+0000
TZOFFSETTO:+0000
TZNAME:UTC
DTSTART:20240101T000000
END:STANDARD
END:VTIMEZONE
BEGIN:VEVENT
DTSTART;TZID=UTC:20241031T133000
DTEND;TZID=UTC:20241031T153000
DTSTAMP:20260423T110311
CREATED:20240917T135539Z
LAST-MODIFIED:20240917T135539Z
UID:2524-1730381400-1730388600@www.encorecornwall.com
SUMMARY:15-WORLD OF BIRDS
DESCRIPTION:
URL:https://www.encorecornwall.com/event/15-world-of-birds/
END:VEVENT
END:VCALENDAR