BEGIN:VCALENDAR
VERSION:2.0
PRODID:-//Encore Education Centre in Cornwall - ECPv6.5.1.6//NONSGML v1.0//EN
CALSCALE:GREGORIAN
METHOD:PUBLISH
X-WR-CALNAME:Encore Education Centre in Cornwall
X-ORIGINAL-URL:https://www.encorecornwall.com
X-WR-CALDESC:Events for Encore Education Centre in Cornwall
REFRESH-INTERVAL;VALUE=DURATION:PT1H
X-Robots-Tag:noindex
X-PUBLISHED-TTL:PT1H
BEGIN:VTIMEZONE
TZID:UTC
BEGIN:STANDARD
TZOFFSETFROM:+0000
TZOFFSETTO:+0000
TZNAME:UTC
DTSTART:20240101T000000
END:STANDARD
END:VTIMEZONE
BEGIN:VEVENT
DTSTART;TZID=UTC:20241113T093000
DTEND;TZID=UTC:20241113T113000
DTSTAMP:20260423T133247
CREATED:20240917T152246Z
LAST-MODIFIED:20240917T152246Z
UID:2542-1731490200-1731497400@www.encorecornwall.com
SUMMARY:03.8-Write it Now
DESCRIPTION:
URL:https://www.encorecornwall.com/event/03-8-write-it-now-2/
END:VEVENT
BEGIN:VEVENT
DTSTART;TZID=UTC:20241113T133000
DTEND;TZID=UTC:20241113T153000
DTSTAMP:20260423T133247
CREATED:20240917T153008Z
LAST-MODIFIED:20240917T153008Z
UID:2552-1731504600-1731511800@www.encorecornwall.com
SUMMARY:21-Popular Music
DESCRIPTION:
URL:https://www.encorecornwall.com/event/21-popular-music/
END:VEVENT
END:VCALENDAR