BEGIN:VCALENDAR
VERSION:2.0
PRODID:-//Encore Education Centre in Cornwall - ECPv6.5.1.6//NONSGML v1.0//EN
CALSCALE:GREGORIAN
METHOD:PUBLISH
X-WR-CALNAME:Encore Education Centre in Cornwall
X-ORIGINAL-URL:https://www.encorecornwall.com
X-WR-CALDESC:Events for Encore Education Centre in Cornwall
REFRESH-INTERVAL;VALUE=DURATION:PT1H
X-Robots-Tag:noindex
X-PUBLISHED-TTL:PT1H
BEGIN:VTIMEZONE
TZID:UTC
BEGIN:STANDARD
TZOFFSETFROM:+0000
TZOFFSETTO:+0000
TZNAME:UTC
DTSTART:20240101T000000
END:STANDARD
END:VTIMEZONE
BEGIN:VEVENT
DTSTART;TZID=UTC:20241114T093000
DTEND;TZID=UTC:20241114T113000
DTSTAMP:20260423T121313
CREATED:20240917T153138Z
LAST-MODIFIED:20240917T153138Z
UID:2554-1731576600-1731583800@www.encorecornwall.com
SUMMARY:22-Afghanistan Experiences
DESCRIPTION:
URL:https://www.encorecornwall.com/event/22-afghanistan-experiences/
END:VEVENT
BEGIN:VEVENT
DTSTART;TZID=UTC:20241114T133000
DTEND;TZID=UTC:20241114T153000
DTSTAMP:20260423T121313
CREATED:20240917T153246Z
LAST-MODIFIED:20240917T153246Z
UID:2556-1731591000-1731598200@www.encorecornwall.com
SUMMARY:23-Fun with Dave
DESCRIPTION:
URL:https://www.encorecornwall.com/event/23-fun-with-dave/
END:VEVENT
END:VCALENDAR