BEGIN:VCALENDAR
VERSION:2.0
PRODID:-//Encore Education Centre in Cornwall - ECPv6.5.1.6//NONSGML v1.0//EN
CALSCALE:GREGORIAN
METHOD:PUBLISH
X-WR-CALNAME:Encore Education Centre in Cornwall
X-ORIGINAL-URL:https://www.encorecornwall.com
X-WR-CALDESC:Events for Encore Education Centre in Cornwall
REFRESH-INTERVAL;VALUE=DURATION:PT1H
X-Robots-Tag:noindex
X-PUBLISHED-TTL:PT1H
BEGIN:VTIMEZONE
TZID:UTC
BEGIN:STANDARD
TZOFFSETFROM:+0000
TZOFFSETTO:+0000
TZNAME:UTC
DTSTART:20240101T000000
END:STANDARD
END:VTIMEZONE
BEGIN:VEVENT
DTSTART;TZID=UTC:20240914T133000
DTEND;TZID=UTC:20240914T160000
DTSTAMP:20260423T212950
CREATED:20240909T165015Z
LAST-MODIFIED:20240909T165015Z
UID:2465-1726320600-1726329600@www.encorecornwall.com
SUMMARY:Encore Open House
DESCRIPTION:
URL:https://www.encorecornwall.com/event/encore-open-house/
CATEGORIES:Event
END:VEVENT
BEGIN:VEVENT
DTSTART;TZID=UTC:20240924T093000
DTEND;TZID=UTC:20240924T113000
DTSTAMP:20260423T212950
CREATED:20240913T153322Z
LAST-MODIFIED:20240913T153322Z
UID:2467-1727170200-1727177400@www.encorecornwall.com
SUMMARY:01.1-The Great War
DESCRIPTION:
URL:https://www.encorecornwall.com/event/01-1-the-great-war/
END:VEVENT
BEGIN:VEVENT
DTSTART;TZID=UTC:20240924T140000
DTEND;TZID=UTC:20240924T160000
DTSTAMP:20260423T212950
CREATED:20240913T153711Z
LAST-MODIFIED:20240913T153711Z
UID:2469-1727186400-1727193600@www.encorecornwall.com
SUMMARY:02.1-A Conversation Cafe
DESCRIPTION:
URL:https://www.encorecornwall.com/event/02-1-a-conversation-cafe/
END:VEVENT
BEGIN:VEVENT
DTSTART;TZID=UTC:20240925T093000
DTEND;TZID=UTC:20240925T113000
DTSTAMP:20260423T212950
CREATED:20240913T153854Z
LAST-MODIFIED:20240913T153854Z
UID:2471-1727256600-1727263800@www.encorecornwall.com
SUMMARY:03.1-Write it Now
DESCRIPTION:
URL:https://www.encorecornwall.com/event/03-1-write-it-now-3/
END:VEVENT
BEGIN:VEVENT
DTSTART;TZID=UTC:20240930T133000
DTEND;TZID=UTC:20240930T153000
DTSTAMP:20260423T212950
CREATED:20240913T154153Z
LAST-MODIFIED:20240913T195530Z
UID:2473-1727703000-1727710200@www.encorecornwall.com
SUMMARY:04.1-Introduction to Bridge
DESCRIPTION:
URL:https://www.encorecornwall.com/event/04-1-introduction-to-bridge/
END:VEVENT
BEGIN:VEVENT
DTSTART;TZID=UTC:20241001T093000
DTEND;TZID=UTC:20241001T113000
DTSTAMP:20260423T212950
CREATED:20240913T155530Z
LAST-MODIFIED:20240913T155530Z
UID:2486-1727775000-1727782200@www.encorecornwall.com
SUMMARY:01.2-The Great War
DESCRIPTION:
URL:https://www.encorecornwall.com/event/01-2-the-great-war/
END:VEVENT
BEGIN:VEVENT
DTSTART;TZID=UTC:20241001T140000
DTEND;TZID=UTC:20241001T160000
DTSTAMP:20260423T212950
CREATED:20240913T155656Z
LAST-MODIFIED:20240913T155656Z
UID:2488-1727791200-1727798400@www.encorecornwall.com
SUMMARY:02.2-Conversation Cafe
DESCRIPTION:
URL:https://www.encorecornwall.com/event/02-2-conversation-cafe/
END:VEVENT
BEGIN:VEVENT
DTSTART;TZID=UTC:20241002T093000
DTEND;TZID=UTC:20241002T113000
DTSTAMP:20260423T212950
CREATED:20240913T155827Z
LAST-MODIFIED:20240913T155827Z
UID:2490-1727861400-1727868600@www.encorecornwall.com
SUMMARY:03.2-Write it Now
DESCRIPTION:
URL:https://www.encorecornwall.com/event/03-2-write-it-now-3/
END:VEVENT
BEGIN:VEVENT
DTSTART;TZID=UTC:20241003T133000
DTEND;TZID=UTC:20241003T153000
DTSTAMP:20260423T212950
CREATED:20240913T154408Z
LAST-MODIFIED:20240913T154408Z
UID:2475-1727962200-1727969400@www.encorecornwall.com
SUMMARY:05-History of Jewish People
DESCRIPTION:
URL:https://www.encorecornwall.com/event/05-history-of-jewish-people/
END:VEVENT
BEGIN:VEVENT
DTSTART;TZID=UTC:20241007T093000
DTEND;TZID=UTC:20241007T113000
DTSTAMP:20260423T212950
CREATED:20240913T154700Z
LAST-MODIFIED:20240913T195311Z
UID:2477-1728293400-1728300600@www.encorecornwall.com
SUMMARY:06-Social Media
DESCRIPTION:
URL:https://www.encorecornwall.com/event/06-1-social-media/
END:VEVENT
BEGIN:VEVENT
DTSTART;TZID=UTC:20241007T133000
DTEND;TZID=UTC:20241007T153000
DTSTAMP:20260423T212950
CREATED:20240913T191617Z
LAST-MODIFIED:20240913T195714Z
UID:2498-1728307800-1728315000@www.encorecornwall.com
SUMMARY:04.2-Introduction to Bridge
DESCRIPTION:
URL:https://www.encorecornwall.com/event/04-3-bridge-introduction/
END:VEVENT
BEGIN:VEVENT
DTSTART;TZID=UTC:20241008T093000
DTEND;TZID=UTC:20241008T113000
DTSTAMP:20260423T212950
CREATED:20240913T160056Z
LAST-MODIFIED:20240913T160056Z
UID:2492-1728379800-1728387000@www.encorecornwall.com
SUMMARY:01.3-The Great War
DESCRIPTION:
URL:https://www.encorecornwall.com/event/01-3-the-great-war/
END:VEVENT
BEGIN:VEVENT
DTSTART;TZID=UTC:20241008T140000
DTEND;TZID=UTC:20241008T160000
DTSTAMP:20260423T212950
CREATED:20240913T160220Z
LAST-MODIFIED:20240913T160220Z
UID:2494-1728396000-1728403200@www.encorecornwall.com
SUMMARY:02.3-Conversation Cafe
DESCRIPTION:
URL:https://www.encorecornwall.com/event/02-3-conversation-cafe/
END:VEVENT
BEGIN:VEVENT
DTSTART;TZID=UTC:20241009T093000
DTEND;TZID=UTC:20241009T113000
DTSTAMP:20260423T212950
CREATED:20240913T160339Z
LAST-MODIFIED:20240913T160339Z
UID:2496-1728466200-1728473400@www.encorecornwall.com
SUMMARY:03.3-Write it Now
DESCRIPTION:
URL:https://www.encorecornwall.com/event/03-3-write-it-now-3/
END:VEVENT
BEGIN:VEVENT
DTSTART;TZID=UTC:20241009T133000
DTEND;TZID=UTC:20241009T153000
DTSTAMP:20260423T212950
CREATED:20240913T154846Z
LAST-MODIFIED:20240913T154846Z
UID:2480-1728480600-1728487800@www.encorecornwall.com
SUMMARY:07.1-Cognitive Vitality
DESCRIPTION:
URL:https://www.encorecornwall.com/event/07-1-cognitive-vitality/
END:VEVENT
BEGIN:VEVENT
DTSTART;TZID=UTC:20241010T093000
DTEND;TZID=UTC:20241010T113000
DTSTAMP:20260423T212950
CREATED:20240913T155037Z
LAST-MODIFIED:20240913T195212Z
UID:2482-1728552600-1728559800@www.encorecornwall.com
SUMMARY:08-Dementia Caregiver
DESCRIPTION:
URL:https://www.encorecornwall.com/event/08-1-dementia-caregiver/
END:VEVENT
BEGIN:VEVENT
DTSTART;TZID=UTC:20241010T133000
DTEND;TZID=UTC:20241010T153000
DTSTAMP:20260423T212950
CREATED:20240913T155252Z
LAST-MODIFIED:20240913T195110Z
UID:2484-1728567000-1728574200@www.encorecornwall.com
SUMMARY:09-Longevity & Ageing
DESCRIPTION:
URL:https://www.encorecornwall.com/event/09-1-longevity-ageing/
END:VEVENT
BEGIN:VEVENT
DTSTART;TZID=UTC:20241015T093000
DTEND;TZID=UTC:20241015T113000
DTSTAMP:20260423T212950
CREATED:20240913T192655Z
LAST-MODIFIED:20240913T200135Z
UID:2506-1728984600-1728991800@www.encorecornwall.com
SUMMARY:01.4-The Great War
DESCRIPTION:
URL:https://www.encorecornwall.com/event/01-4-great-war/
END:VEVENT
BEGIN:VEVENT
DTSTART;TZID=UTC:20241015T140000
DTEND;TZID=UTC:20241015T160000
DTSTAMP:20260423T212950
CREATED:20240913T192919Z
LAST-MODIFIED:20240913T194905Z
UID:2508-1729000800-1729008000@www.encorecornwall.com
SUMMARY:02.4-Conversation Cafe
DESCRIPTION:
URL:https://www.encorecornwall.com/event/02-4-conversation-cafe/
END:VEVENT
BEGIN:VEVENT
DTSTART;TZID=UTC:20241016T093000
DTEND;TZID=UTC:20241016T113000
DTSTAMP:20260423T212950
CREATED:20240913T193102Z
LAST-MODIFIED:20240913T193102Z
UID:2510-1729071000-1729078200@www.encorecornwall.com
SUMMARY:03.4-Write it Now
DESCRIPTION:
URL:https://www.encorecornwall.com/event/03-4-write-it-now-3/
END:VEVENT
BEGIN:VEVENT
DTSTART;TZID=UTC:20241016T133000
DTEND;TZID=UTC:20241016T153000
DTSTAMP:20260423T212950
CREATED:20240913T191950Z
LAST-MODIFIED:20240913T195009Z
UID:2500-1729085400-1729092600@www.encorecornwall.com
SUMMARY:10-Richard III & Princes
DESCRIPTION:
URL:https://www.encorecornwall.com/event/10-1-richard-iii-princes/
END:VEVENT
BEGIN:VEVENT
DTSTART;TZID=UTC:20241017T093000
DTEND;TZID=UTC:20241017T113000
DTSTAMP:20260423T212950
CREATED:20240913T192221Z
LAST-MODIFIED:20240913T192221Z
UID:2502-1729157400-1729164600@www.encorecornwall.com
SUMMARY:11-Downsizing
DESCRIPTION:
URL:https://www.encorecornwall.com/event/11-downsizing/
END:VEVENT
BEGIN:VEVENT
DTSTART;TZID=UTC:20241017T140000
DTEND;TZID=UTC:20241017T160000
DTSTAMP:20260423T212950
CREATED:20240913T192414Z
LAST-MODIFIED:20240913T192414Z
UID:2504-1729173600-1729180800@www.encorecornwall.com
SUMMARY:12-Big Trip Across Pacific
DESCRIPTION:
URL:https://www.encorecornwall.com/event/12-big-trip-across-pacific/
END:VEVENT
BEGIN:VEVENT
DTSTART;TZID=UTC:20241021T093000
DTEND;TZID=UTC:20241021T113000
DTSTAMP:20260423T212950
CREATED:20240917T134942Z
LAST-MODIFIED:20240917T134942Z
UID:2518-1729503000-1729510200@www.encorecornwall.com
SUMMARY:13-CHANGING YOUR DIET
DESCRIPTION:
URL:https://www.encorecornwall.com/event/13-changing-your-diet/
END:VEVENT
BEGIN:VEVENT
DTSTART;TZID=UTC:20241021T133000
DTEND;TZID=UTC:20241021T153000
DTSTAMP:20260423T212950
CREATED:20240917T151809Z
LAST-MODIFIED:20240917T151809Z
UID:2536-1729517400-1729524600@www.encorecornwall.com
SUMMARY:04.3-Introduction to Bridge
DESCRIPTION:
URL:https://www.encorecornwall.com/event/04-3-introduction-to-bridge/
END:VEVENT
BEGIN:VEVENT
DTSTART;TZID=UTC:20241022T140000
DTEND;TZID=UTC:20241022T160000
DTSTAMP:20260423T212950
CREATED:20240917T142142Z
LAST-MODIFIED:20240917T142142Z
UID:2526-1729605600-1729612800@www.encorecornwall.com
SUMMARY:02.5-Conversation Cafe
DESCRIPTION:
URL:https://www.encorecornwall.com/event/02-5-conversation-cafe/
END:VEVENT
BEGIN:VEVENT
DTSTART;TZID=UTC:20241023T093000
DTEND;TZID=UTC:20241023T113000
DTSTAMP:20260423T212950
CREATED:20240917T142501Z
LAST-MODIFIED:20240917T142501Z
UID:2530-1729675800-1729683000@www.encorecornwall.com
SUMMARY:03.5-Write it Now
DESCRIPTION:
URL:https://www.encorecornwall.com/event/03-5-write-it-now-3/
END:VEVENT
BEGIN:VEVENT
DTSTART;TZID=UTC:20241023T133000
DTEND;TZID=UTC:20241023T153000
DTSTAMP:20260423T212950
CREATED:20240917T142822Z
LAST-MODIFIED:20240917T142822Z
UID:2534-1729690200-1729697400@www.encorecornwall.com
SUMMARY:07.2-Cognitive Vitality
DESCRIPTION:
URL:https://www.encorecornwall.com/event/07-2-cognitive-vitality/
END:VEVENT
BEGIN:VEVENT
DTSTART;TZID=UTC:20241024T093000
DTEND;TZID=UTC:20241024T113000
DTSTAMP:20260423T212950
CREATED:20240917T135141Z
LAST-MODIFIED:20240917T135141Z
UID:2520-1729762200-1729769400@www.encorecornwall.com
SUMMARY:14-RETIREMENT LIVING
DESCRIPTION:
URL:https://www.encorecornwall.com/event/14-retirement-living/
END:VEVENT
BEGIN:VEVENT
DTSTART;TZID=UTC:20241028T133000
DTEND;TZID=UTC:20241028T153000
DTSTAMP:20260423T212950
CREATED:20240917T151933Z
LAST-MODIFIED:20240917T151933Z
UID:2538-1730122200-1730129400@www.encorecornwall.com
SUMMARY:04.4-Introduction to Bridge
DESCRIPTION:
URL:https://www.encorecornwall.com/event/04-4-introduction-to-bridge/
END:VEVENT
END:VCALENDAR