BEGIN:VCALENDAR
VERSION:2.0
PRODID:-//Encore Education Centre in Cornwall - ECPv6.5.1.6//NONSGML v1.0//EN
CALSCALE:GREGORIAN
METHOD:PUBLISH
X-WR-CALNAME:Encore Education Centre in Cornwall
X-ORIGINAL-URL:https://www.encorecornwall.com
X-WR-CALDESC:Events for Encore Education Centre in Cornwall
REFRESH-INTERVAL;VALUE=DURATION:PT1H
X-Robots-Tag:noindex
X-PUBLISHED-TTL:PT1H
BEGIN:VTIMEZONE
TZID:UTC
BEGIN:STANDARD
TZOFFSETFROM:+0000
TZOFFSETTO:+0000
TZNAME:UTC
DTSTART:20210101T000000
END:STANDARD
END:VTIMEZONE
BEGIN:VEVENT
DTSTART;TZID=UTC:20211022T093000
DTEND;TZID=UTC:20211022T113000
DTSTAMP:20260425T120227
CREATED:20210923T200318Z
LAST-MODIFIED:20210928T164546Z
UID:1437-1634895000-1634902200@www.encorecornwall.com
SUMMARY:COURSE - BRITISH HOME CHILDREN - 07.1
DESCRIPTION:During the years 1869 to 1939\, in the aftermath of the Industrial Revolution\, more than 100\,000 youngsters\, aged from 4 years to 14 years\, were sent from Britain to Canada to work as farm labourers or domestics. These youngsters were known as the British Home Children. Their stories will be revealed by John and Jan Milnes\, co-authors of two books that follow 3 boys and 3 girls\, all British Home Children\, as they leave their homeland to settle in Canada.
URL:https://www.encorecornwall.com/event/course-british-home-children-07-1/
LOCATION:Encore Cornwall\, 146 Chevrier Avenue\, Unit B\, Cornwall\, Ontario\, K2H 1S1\, Canada
CATEGORIES:Course
ATTACH;FMTTYPE=image/png:https://www.encorecornwall.com/wp-content/uploads/2021/08/Course-Image-e1629907527758.png
END:VEVENT
BEGIN:VEVENT
DTSTART;TZID=UTC:20211021T143000
DTEND;TZID=UTC:20211021T163000
DTSTAMP:20260425T120227
CREATED:20210923T200341Z
LAST-MODIFIED:20210923T201044Z
UID:1434-1634826600-1634833800@www.encorecornwall.com
SUMMARY:COURSE - TWENTIETH CENTURY ART AND WHY IT HAS VALUE - 06.1
DESCRIPTION:The 20th signalled a radical departure from art as image and representation to art as abstraction and conceptualization. Our workshop will display and analyze pivotal pieces by Marcel Duchamps\, Kazimir Malevich\, El Lissitzky and Picasso. We will begin by examining their early work within the framework of the Austrian School of subjective value theory and conclude with the appropriation art of Richard Prince and Andy Warhol\, possibly touching on the recent NFT art of Damien Hirst’s “Currency\,” should time permit. Be prepared for dazzling images\, high prices and copious context.
URL:https://www.encorecornwall.com/event/course-twentieth-century-art-and-why-it-has-value-06-1/
LOCATION:Encore Cornwall\, 146 Chevrier Avenue\, Unit B\, Cornwall\, Ontario\, K2H 1S1\, Canada
CATEGORIES:Course
ATTACH;FMTTYPE=image/png:https://www.encorecornwall.com/wp-content/uploads/2021/08/Course-Image-e1629907527758.png
END:VEVENT
BEGIN:VEVENT
DTSTART;TZID=UTC:20211021T093000
DTEND;TZID=UTC:20211021T113000
DTSTAMP:20260425T120227
CREATED:20210923T200402Z
LAST-MODIFIED:20210923T201037Z
UID:1431-1634808600-1634815800@www.encorecornwall.com
SUMMARY:COURSE - YOUR CARBON FOOTPRINT - 05.1
DESCRIPTION:Are you concerned with the amount of garbage you put out each week? Would you like to reduce your carbon footprint (or wonder what is a carbon footprint)? Come to a discussion of ideas to help us be better inhabitants of this our finite planet.
URL:https://www.encorecornwall.com/event/course-your-carbon-footprint-05-1/
LOCATION:Encore Cornwall\, 146 Chevrier Avenue\, Unit B\, Cornwall\, Ontario\, K2H 1S1\, Canada
CATEGORIES:Course
ATTACH;FMTTYPE=image/png:https://www.encorecornwall.com/wp-content/uploads/2021/08/Course-Image-e1629907527758.png
END:VEVENT
BEGIN:VEVENT
DTSTART;TZID=UTC:20211020T130000
DTEND;TZID=UTC:20211020T150000
DTSTAMP:20260425T120227
CREATED:20210923T200428Z
LAST-MODIFIED:20210923T201033Z
UID:1428-1634734800-1634742000@www.encorecornwall.com
SUMMARY:COURSE - THE 1918 INFLUENZA PANDEMIC - 04.1
DESCRIPTION:The influenza pandemic of 1918\, the deadliest in human history\, infected at least 500 million people — about one-third of the world’s population at the time — and killed an estimated 50 million of its victims\, including some 675\,000 Americans and 50\,000 Canadians. While it claimed three times as many lives as were lost in the First World War\, it has been overshadowed by that struggle and known as “the forgotten pandemic”. Certainly coverage of the pandemic was suppressed for fear it would demoralize the Great War effort. What can we learn about its causes\, its spread\, and the worldwide efforts to control this deadly virus that might aid in the present struggle with the Covid-19 pandemic?
URL:https://www.encorecornwall.com/event/course-the-1918-influenza-pandemic-04-1/
LOCATION:Encore Cornwall\, 146 Chevrier Avenue\, Unit B\, Cornwall\, Ontario\, K2H 1S1\, Canada
CATEGORIES:Course
ATTACH;FMTTYPE=image/png:https://www.encorecornwall.com/wp-content/uploads/2021/08/Course-Image-e1629907527758.png
END:VEVENT
BEGIN:VEVENT
DTSTART;TZID=UTC:20211020T093000
DTEND;TZID=UTC:20211020T113000
DTSTAMP:20260425T120227
CREATED:20210923T185556Z
LAST-MODIFIED:20210927T205124Z
UID:1382-1634722200-1634729400@www.encorecornwall.com
SUMMARY:COURSE - WRITE IT NOW-MY LIFE STORY - 02.2
DESCRIPTION:A course for ordinary people who wish to write their life stories as a gift to their children and grandchildren. Our aim is not to correct spelling and grammar. We merely want writers to tell and write their stories if they so wish. Join us for a ride and share in a wonderful journey of writing. The group is there to encourage and facilitate writing in a friendly atmosphere.
URL:https://www.encorecornwall.com/event/course-write-it-now-my-life-story-02-2/
LOCATION:Encore Cornwall\, 146 Chevrier Avenue\, Unit B\, Cornwall\, Ontario\, K2H 1S1\, Canada
CATEGORIES:Course
ATTACH;FMTTYPE=image/png:https://www.encorecornwall.com/wp-content/uploads/2021/08/Course-Image-e1629907527758.png
END:VEVENT
BEGIN:VEVENT
DTSTART;TZID=UTC:20211019T143000
DTEND;TZID=UTC:20211019T163000
DTSTAMP:20260425T120227
CREATED:20210923T184952Z
LAST-MODIFIED:20210923T201358Z
UID:1362-1634653800-1634661000@www.encorecornwall.com
SUMMARY:COURSE - HOT TOPICS - 01.2
DESCRIPTION:For many years\, Hot Topics has offered an opportunity to present and discuss ideas and events of interest. Join us and bring your ideas and concerns to the discussion. Not a formal debate with winners and losers; but a moderated open discussion between members of our community. Subjects are chosen by the members. Registrations are limited in order to guarantee every member an opportunity to speak on every topic. New ideas and voices are welcome.
URL:https://www.encorecornwall.com/event/course-hot-topics-01-2/
LOCATION:Encore Cornwall\, 146 Chevrier Avenue\, Unit B\, Cornwall\, Ontario\, K2H 1S1\, Canada
CATEGORIES:Course
ATTACH;FMTTYPE=image/png:https://www.encorecornwall.com/wp-content/uploads/2021/08/Course-Image-e1629907527758.png
END:VEVENT
BEGIN:VEVENT
DTSTART;TZID=UTC:20211019T093000
DTEND;TZID=UTC:20211019T113000
DTSTAMP:20260425T120227
CREATED:20210923T200706Z
LAST-MODIFIED:20210927T203725Z
UID:1413-1634635800-1634643000@www.encorecornwall.com
SUMMARY:COURSE - LESSER-KNOWN WARS OF THE TWENTIETH CENTURY - 3.1
DESCRIPTION:While most people are familiar with the two great wars of the past century\, many additional conflicts took place during this time. Focus will be upon these lesser-known combats with emphasis on how and why they each started and the influence they had upon future wars. Some of the topics covered will include; the confrontation in Ethiopia that pushed Mussolini into Hitler’s arms\, the hostilities in Spain and their impact on the Second World War. We will also look at how the two great wars have a direct connection to the smaller wars in between\, and examine the evolution of weapons over this period. \n7 Sessions – \nOct. 19 to Nov. 30
URL:https://www.encorecornwall.com/event/course-lesser-known-wars-of-the-twentieth-century-3-1/
LOCATION:Encore Cornwall\, 146 Chevrier Avenue\, Unit B\, Cornwall\, Ontario\, K2H 1S1\, Canada
CATEGORIES:Course
ATTACH;FMTTYPE=image/png:https://www.encorecornwall.com/wp-content/uploads/2021/08/Course-Image-e1629907527758.png
END:VEVENT
BEGIN:VEVENT
DTSTART;TZID=UTC:20211013T093000
DTEND;TZID=UTC:20211013T113000
DTSTAMP:20260425T120227
CREATED:20210923T200746Z
LAST-MODIFIED:20210927T205104Z
UID:1425-1634117400-1634124600@www.encorecornwall.com
SUMMARY:COURSE - WRITE IT NOW-MY LIFE STORY - 02.1
DESCRIPTION:A course for ordinary people who wish to write their life stories as a gift to their children and grandchildren. Our aim is not to correct spelling and grammar. We merely want writers to tell and write their stories if they so wish. Join us for a ride and share in a wonderful journey of writing. The group is there to encourage and facilitate writing in a friendly atmosphere. \n8 Sessions – \nOct. 13 to Dec. 1
URL:https://www.encorecornwall.com/event/course-write-it-now-my-life-story-02-1/
LOCATION:Encore Cornwall\, 146 Chevrier Avenue\, Unit B\, Cornwall\, Ontario\, K2H 1S1\, Canada
CATEGORIES:Course
ATTACH;FMTTYPE=image/png:https://www.encorecornwall.com/wp-content/uploads/2021/08/Course-Image-e1629907527758.png
END:VEVENT
BEGIN:VEVENT
DTSTART;TZID=UTC:20211012T143000
DTEND;TZID=UTC:20211012T163000
DTSTAMP:20260425T120227
CREATED:20210923T200856Z
LAST-MODIFIED:20210923T201000Z
UID:1410-1634049000-1634056200@www.encorecornwall.com
SUMMARY:COURSE - HOT TOPICS - 01.1
DESCRIPTION:For many years\, Hot Topics has offered an opportunity to present and discuss ideas and events of interest. Join us and bring your ideas and concerns to the discussion. Not a formal debate with winners and losers; but a moderated open discussion between members of our community. Subjects are chosen by the members. Registrations are limited in order to guarantee every member an opportunity to speak on every topic. New ideas and voices are welcome. \n8 Sessions  \nOct. 12 to Nov. 30
URL:https://www.encorecornwall.com/event/course-hot-topics-01-1/
LOCATION:Encore Cornwall\, 146 Chevrier Avenue\, Unit B\, Cornwall\, Ontario\, K2H 1S1\, Canada
CATEGORIES:Course
ATTACH;FMTTYPE=image/png:https://www.encorecornwall.com/wp-content/uploads/2021/08/Course-Image-e1629907527758.png
END:VEVENT
END:VCALENDAR