BEGIN:VCALENDAR
VERSION:2.0
PRODID:-//Encore Education Centre in Cornwall - ECPv6.5.1.6//NONSGML v1.0//EN
CALSCALE:GREGORIAN
METHOD:PUBLISH
X-WR-CALNAME:Encore Education Centre in Cornwall
X-ORIGINAL-URL:https://www.encorecornwall.com
X-WR-CALDESC:Events for Encore Education Centre in Cornwall
REFRESH-INTERVAL;VALUE=DURATION:PT1H
X-Robots-Tag:noindex
X-PUBLISHED-TTL:PT1H
BEGIN:VTIMEZONE
TZID:UTC
BEGIN:STANDARD
TZOFFSETFROM:+0000
TZOFFSETTO:+0000
TZNAME:UTC
DTSTART:20220101T000000
END:STANDARD
END:VTIMEZONE
BEGIN:VEVENT
DTSTART;TZID=UTC:20231102T130000
DTEND;TZID=UTC:20231102T150000
DTSTAMP:20260421T102010
CREATED:20230922T172416Z
LAST-MODIFIED:20230922T172416Z
UID:2085-1698930000-1698937200@www.encorecornwall.com
SUMMARY:12-Genealogy
DESCRIPTION:
URL:https://www.encorecornwall.com/event/12-genealogy/
CATEGORIES:Course
END:VEVENT
BEGIN:VEVENT
DTSTART;TZID=UTC:20231101T093000
DTEND;TZID=UTC:20231101T113000
DTSTAMP:20260421T102010
CREATED:20230922T172141Z
LAST-MODIFIED:20230922T172141Z
UID:2083-1698831000-1698838200@www.encorecornwall.com
SUMMARY:03.3-Write it Now
DESCRIPTION:
URL:https://www.encorecornwall.com/event/03-3-write-it-now/
CATEGORIES:Course
END:VEVENT
BEGIN:VEVENT
DTSTART;TZID=UTC:20231031T143000
DTEND;TZID=UTC:20231031T163000
DTSTAMP:20260421T102010
CREATED:20230922T171958Z
LAST-MODIFIED:20230922T171958Z
UID:2081-1698762600-1698769800@www.encorecornwall.com
SUMMARY:02.3-Hot Topics
DESCRIPTION:
URL:https://www.encorecornwall.com/event/02-3-hot-topics/
CATEGORIES:Course
END:VEVENT
BEGIN:VEVENT
DTSTART;TZID=UTC:20231031T093000
DTEND;TZID=UTC:20231031T113000
DTSTAMP:20260421T102010
CREATED:20230922T171822Z
LAST-MODIFIED:20230922T171822Z
UID:2079-1698744600-1698751800@www.encorecornwall.com
SUMMARY:01.3-WWII & its Aftermath
DESCRIPTION:
URL:https://www.encorecornwall.com/event/01-3-wwii-its-aftermath/
CATEGORIES:Course
END:VEVENT
BEGIN:VEVENT
DTSTART;TZID=UTC:20231030T130000
DTEND;TZID=UTC:20231030T150000
DTSTAMP:20260421T102010
CREATED:20230922T171622Z
LAST-MODIFIED:20230922T171622Z
UID:2077-1698670800-1698678000@www.encorecornwall.com
SUMMARY:11-Life in Kenya
DESCRIPTION:
URL:https://www.encorecornwall.com/event/11-life-in-kenya/
CATEGORIES:Course
END:VEVENT
BEGIN:VEVENT
DTSTART;TZID=UTC:20231026T130000
DTEND;TZID=UTC:20231026T150000
DTSTAMP:20260421T102010
CREATED:20230922T182259Z
LAST-MODIFIED:20230922T182259Z
UID:2110-1698325200-1698332400@www.encorecornwall.com
SUMMARY:10-Probation & Parole
DESCRIPTION:
URL:https://www.encorecornwall.com/event/10-probation-parole/
CATEGORIES:Course
END:VEVENT
BEGIN:VEVENT
DTSTART;TZID=UTC:20231026T093000
DTEND;TZID=UTC:20231026T113000
DTSTAMP:20260421T102010
CREATED:20230922T171359Z
LAST-MODIFIED:20230922T171359Z
UID:2075-1698312600-1698319800@www.encorecornwall.com
SUMMARY:09-Low Back Pain
DESCRIPTION:
URL:https://www.encorecornwall.com/event/09-low-back-pain/
CATEGORIES:Course
END:VEVENT
BEGIN:VEVENT
DTSTART;TZID=UTC:20231025T130000
DTEND;TZID=UTC:20231025T150000
DTSTAMP:20260421T102010
CREATED:20230922T171214Z
LAST-MODIFIED:20230922T171214Z
UID:2073-1698238800-1698246000@www.encorecornwall.com
SUMMARY:08-El Camino de Santiago
DESCRIPTION:
URL:https://www.encorecornwall.com/event/08-el-camino-de-santiago/
CATEGORIES:Course
END:VEVENT
BEGIN:VEVENT
DTSTART;TZID=UTC:20231025T093000
DTEND;TZID=UTC:20231025T113000
DTSTAMP:20260421T102010
CREATED:20230922T170904Z
LAST-MODIFIED:20230922T170904Z
UID:2070-1698226200-1698233400@www.encorecornwall.com
SUMMARY:03.2-Write it Now
DESCRIPTION:
URL:https://www.encorecornwall.com/event/03-2-write-it-now/
CATEGORIES:Course
END:VEVENT
BEGIN:VEVENT
DTSTART;TZID=UTC:20231024T143000
DTEND;TZID=UTC:20231024T163000
DTSTAMP:20260421T102010
CREATED:20230922T170705Z
LAST-MODIFIED:20230922T170705Z
UID:2068-1698157800-1698165000@www.encorecornwall.com
SUMMARY:02.2-Hot Topics
DESCRIPTION:
URL:https://www.encorecornwall.com/event/02-2-hot-topics/
CATEGORIES:Course
END:VEVENT
BEGIN:VEVENT
DTSTART;TZID=UTC:20231024T093000
DTEND;TZID=UTC:20231024T113000
DTSTAMP:20260421T102010
CREATED:20230922T170534Z
LAST-MODIFIED:20230922T170534Z
UID:2066-1698139800-1698147000@www.encorecornwall.com
SUMMARY:01.2-WWII & its Aftermath
DESCRIPTION:
URL:https://www.encorecornwall.com/event/01-2-wwii-its-aftermath/
CATEGORIES:Course
END:VEVENT
BEGIN:VEVENT
DTSTART;TZID=UTC:20231023T130000
DTEND;TZID=UTC:20231023T150000
DTSTAMP:20260421T102010
CREATED:20230922T170131Z
LAST-MODIFIED:20230922T170131Z
UID:2063-1698066000-1698073200@www.encorecornwall.com
SUMMARY:07-Role of an Executor
DESCRIPTION:
URL:https://www.encorecornwall.com/event/07-role-of-an-executor/
CATEGORIES:Course
END:VEVENT
BEGIN:VEVENT
DTSTART;TZID=UTC:20231023T093000
DTEND;TZID=UTC:20231023T113000
DTSTAMP:20260421T102010
CREATED:20230922T165902Z
LAST-MODIFIED:20230922T165902Z
UID:2061-1698053400-1698060600@www.encorecornwall.com
SUMMARY:06-Fraud Scams
DESCRIPTION:
URL:https://www.encorecornwall.com/event/06-fraud-scams/
CATEGORIES:Course
END:VEVENT
BEGIN:VEVENT
DTSTART;TZID=UTC:20231019T130000
DTEND;TZID=UTC:20231019T150000
DTSTAMP:20260421T102011
CREATED:20230922T164350Z
LAST-MODIFIED:20230922T164350Z
UID:2056-1697720400-1697727600@www.encorecornwall.com
SUMMARY:05-World of Travel
DESCRIPTION:
URL:https://www.encorecornwall.com/event/05-world-of-travel/
CATEGORIES:Course
END:VEVENT
BEGIN:VEVENT
DTSTART;TZID=UTC:20231018T130000
DTEND;TZID=UTC:20231018T150000
DTSTAMP:20260421T102011
CREATED:20230922T164128Z
LAST-MODIFIED:20230922T164128Z
UID:2053-1697634000-1697641200@www.encorecornwall.com
SUMMARY:04-JFK Assassination
DESCRIPTION:
URL:https://www.encorecornwall.com/event/04-jfk-assassination/
END:VEVENT
BEGIN:VEVENT
DTSTART;TZID=UTC:20231018T093000
DTEND;TZID=UTC:20231018T113000
DTSTAMP:20260421T102011
CREATED:20230922T163905Z
LAST-MODIFIED:20230922T163905Z
UID:2051-1697621400-1697628600@www.encorecornwall.com
SUMMARY:03.1-Write it Now
DESCRIPTION:
URL:https://www.encorecornwall.com/event/03-1-write-it-now/
END:VEVENT
BEGIN:VEVENT
DTSTART;TZID=UTC:20231017T143000
DTEND;TZID=UTC:20231017T163000
DTSTAMP:20260421T102011
CREATED:20230922T163608Z
LAST-MODIFIED:20230922T165613Z
UID:2049-1697553000-1697560200@www.encorecornwall.com
SUMMARY:02.1-Hot Topics
DESCRIPTION:
URL:https://www.encorecornwall.com/event/01-1-hot-topics/
END:VEVENT
BEGIN:VEVENT
DTSTART;TZID=UTC:20231017T093000
DTEND;TZID=UTC:20231017T113000
DTSTAMP:20260421T102011
CREATED:20230922T163226Z
LAST-MODIFIED:20230922T165318Z
UID:2047-1697535000-1697542200@www.encorecornwall.com
SUMMARY:01.1-WWII & its Aftermath
DESCRIPTION:
URL:https://www.encorecornwall.com/event/01-1-wwii-its-aftermath/
CATEGORIES:Course
END:VEVENT
BEGIN:VEVENT
DTSTART;TZID=UTC:20231014T133000
DTEND;TZID=UTC:20231014T153000
DTSTAMP:20260421T102011
CREATED:20230922T161524Z
LAST-MODIFIED:20230922T161524Z
UID:2045-1697290200-1697297400@www.encorecornwall.com
SUMMARY:Fall Open House
DESCRIPTION:
URL:https://www.encorecornwall.com/event/fall-open-house/
CATEGORIES:Event
END:VEVENT
BEGIN:VEVENT
DTSTART;TZID=UTC:20221125T093000
DTEND;TZID=UTC:20221125T113000
DTSTAMP:20260421T102011
CREATED:20220914T190002Z
LAST-MODIFIED:20220914T190002Z
UID:2018-1669368600-1669375800@www.encorecornwall.com
SUMMARY:Battle of Culloden
DESCRIPTION:
URL:https://www.encorecornwall.com/event/battle-of-culloden/
END:VEVENT
BEGIN:VEVENT
DTSTART;TZID=UTC:20221122T143000
DTEND;TZID=UTC:20221122T163000
DTSTAMP:20260421T102011
CREATED:20221108T184949Z
LAST-MODIFIED:20221108T184949Z
UID:2028-1669127400-1669134600@www.encorecornwall.com
SUMMARY:Hot Topics-02.8
DESCRIPTION:
URL:https://www.encorecornwall.com/event/hot-topics-02-8/
END:VEVENT
BEGIN:VEVENT
DTSTART;TZID=UTC:20221118T130000
DTEND;TZID=UTC:20221118T150000
DTSTAMP:20260421T102011
CREATED:20220914T185836Z
LAST-MODIFIED:20220914T185836Z
UID:2016-1668776400-1668783600@www.encorecornwall.com
SUMMARY:Fun with Dave-19
DESCRIPTION:
URL:https://www.encorecornwall.com/event/fun-with-dave-19/
END:VEVENT
BEGIN:VEVENT
DTSTART;TZID=UTC:20221118T093000
DTEND;TZID=UTC:20221118T113000
DTSTAMP:20260421T102011
CREATED:20220914T185701Z
LAST-MODIFIED:20220914T185701Z
UID:2014-1668763800-1668771000@www.encorecornwall.com
SUMMARY:Cape Breton Island Louisbourg-18
DESCRIPTION:
URL:https://www.encorecornwall.com/event/cape-breton-island-louisbourg-18/
END:VEVENT
BEGIN:VEVENT
DTSTART;TZID=UTC:20221116T093000
DTEND;TZID=UTC:20221116T113000
DTSTAMP:20260421T102011
CREATED:20220914T185447Z
LAST-MODIFIED:20221108T182955Z
UID:2012-1668591000-1668598200@www.encorecornwall.com
SUMMARY:Write it Now-03.8
DESCRIPTION:
URL:https://www.encorecornwall.com/event/write-it-now-03-8/
END:VEVENT
BEGIN:VEVENT
DTSTART;TZID=UTC:20221115T143000
DTEND;TZID=UTC:20221115T163000
DTSTAMP:20260421T102011
CREATED:20220914T185320Z
LAST-MODIFIED:20221108T183126Z
UID:2010-1668522600-1668529800@www.encorecornwall.com
SUMMARY:Hot Topics-02.7
DESCRIPTION:
URL:https://www.encorecornwall.com/event/hot-topics-02-7-2/
END:VEVENT
BEGIN:VEVENT
DTSTART;TZID=UTC:20221114T093000
DTEND;TZID=UTC:20221114T113000
DTSTAMP:20260421T102011
CREATED:20220914T185105Z
LAST-MODIFIED:20220914T185105Z
UID:2008-1668418200-1668425400@www.encorecornwall.com
SUMMARY:Cornwall History-17
DESCRIPTION:
URL:https://www.encorecornwall.com/event/cornwall-history-17/
END:VEVENT
BEGIN:VEVENT
DTSTART;TZID=UTC:20221110T093000
DTEND;TZID=UTC:20221110T113000
DTSTAMP:20260421T102011
CREATED:20220914T184933Z
LAST-MODIFIED:20220914T184933Z
UID:2006-1668072600-1668079800@www.encorecornwall.com
SUMMARY:Birding Tour-Southern Brazil-16
DESCRIPTION:
URL:https://www.encorecornwall.com/event/birding-tour-southern-brazil-16/
END:VEVENT
BEGIN:VEVENT
DTSTART;TZID=UTC:20221109T093000
DTEND;TZID=UTC:20221109T113000
DTSTAMP:20260421T102011
CREATED:20220914T184727Z
LAST-MODIFIED:20220914T184727Z
UID:2004-1667986200-1667993400@www.encorecornwall.com
SUMMARY:Write it Now-03.7
DESCRIPTION:
URL:https://www.encorecornwall.com/event/write-it-now-03-7/
END:VEVENT
BEGIN:VEVENT
DTSTART;TZID=UTC:20221108T143000
DTEND;TZID=UTC:20221108T163000
DTSTAMP:20260421T102011
CREATED:20220914T184604Z
LAST-MODIFIED:20221108T183210Z
UID:2002-1667917800-1667925000@www.encorecornwall.com
SUMMARY:Hot Topics-02.6
DESCRIPTION:
URL:https://www.encorecornwall.com/event/hot-topics-02-6-2/
END:VEVENT
BEGIN:VEVENT
DTSTART;TZID=UTC:20221107T130000
DTEND;TZID=UTC:20221107T150000
DTSTAMP:20260421T102011
CREATED:20220914T184410Z
LAST-MODIFIED:20220914T184410Z
UID:2000-1667826000-1667833200@www.encorecornwall.com
SUMMARY:Habits-Why We do What We do-15
DESCRIPTION:
URL:https://www.encorecornwall.com/event/habits-why-we-do-what-we-do-15/
END:VEVENT
END:VCALENDAR